BEGIN:VCALENDAR
VERSION:2.0
PRODID:Events Booking
BEGIN:VEVENT
UID:69e8b998684d5
SUMMARY:RFP0803 Reading For Pleasure
DESCRIPTION:
DTSTART:20220308T160000Z
DTEND:20220308T173000Z
DTSTAMP:20210921T132938Z
ORGANIZER;CN=5 Wells Development Centre:MAILTO:victoria.brennan@5wells.org.
 uk
END:VEVENT
END:VCALENDAR