BEGIN:VCALENDAR
VERSION:2.0
PRODID:Events Booking
BEGIN:VEVENT
UID:69e88e205dd0f
SUMMARY:RFP1005 Reading For Pleasure
DESCRIPTION:
DTSTART:20220510T150000Z
DTEND:20220510T163000Z
DTSTAMP:20210921T133007Z
ORGANIZER;CN=5 Wells Development Centre:MAILTO:victoria.brennan@5wells.org.
 uk
END:VEVENT
END:VCALENDAR