BEGIN:VCALENDAR
VERSION:2.0
PRODID:Events Booking
BEGIN:VEVENT
UID:69e8eb7fbc801
SUMMARY:EP211 Exclusion Panel Training 
DESCRIPTION:
DTSTART:20220121T100000Z
DTEND:20220121T120000Z
DTSTAMP:20220114T104547Z
ORGANIZER;CN=5 Wells Development Centre:MAILTO:victoria.brennan@5wells.org.
 uk
END:VEVENT
END:VCALENDAR