BEGIN:VCALENDAR
VERSION:2.0
PRODID:Events Booking
BEGIN:VEVENT
UID:69e82ac6b3d9d
SUMMARY:ECF W1 Y2 Mentor Induction
DESCRIPTION:The early career framework (ECF) reforms are a step change in s
 upport for early career teachers\, providing a funded entitlement to a str
 uctured 2-year package of high-quality professional development. The refor
 ms are part of the government’s&nbsp\;teacher recruitment and retention 
 strategy\, which aims to improve the training and development opportunitie
 s available to teachers.
 5 Wells Development Centre is proud to be conti
 nue&nbsp\;our partnership with Northamptonshire Teaching School Hub and Te
 ach First for the delivery of the Early Career Framework&nbsp\;Modules thi
 s year will also incorporate the valuable networking opportunities that yo
 u were not able to experience in the previous year.
 
LOCATION:Barnwell Rd\, Wellingborough NN8\, UK
DTSTART:20220912T123000Z
DTEND:20220912T153000Z
DTSTAMP:20220617T095301Z
ORGANIZER;CN=5 Wells Development Centre:MAILTO:victoria.brennan@5wells.org.
 uk
GEO:52.314941;-0.712512
X-APPLE-STRUCTURED-LOCATION;VALUE=URI;X-ADDRESS=Barnwell Rd\, Wellingboroug
 h NN8\, UK;X-APPLE-RADIUS=72;X-TITLE=5 Wells Development Centre @ Redwell 
 Primary :52.314941;-0.712512
END:VEVENT
END:VCALENDAR