BEGIN:VCALENDAR
VERSION:2.0
PRODID:Events Booking
BEGIN:VEVENT
UID:69e860fa0e389
SUMMARY:APP1107 Appraiser Training
DESCRIPTION:
LOCATION:Barnwell Rd\, Wellingborough NN8 5LQ\, UK
DTSTART:20220711T120000Z
DTEND:20220711T150000Z
DTSTAMP:20220622T071803Z
ORGANIZER;CN=5 Wells Development Centre:MAILTO:victoria.brennan@5wells.org.
 uk
GEO:52.314941;-0.712512
X-APPLE-STRUCTURED-LOCATION;VALUE=URI;X-ADDRESS=Barnwell Rd\, Wellingboroug
 h NN8 5LQ\, UK;X-APPLE-RADIUS=72;X-TITLE=Redwell Primary School:52.314941;
 -0.712512
END:VEVENT
END:VCALENDAR