BEGIN:VCALENDAR
VERSION:2.0
PRODID:Events Booking
BEGIN:VEVENT
UID:69e7f8c348a06
SUMMARY:BJ2211 Exclusion Panel Training
DESCRIPTION:
DTSTART:20221122T180000Z
DTEND:20221122T200000Z
DTSTAMP:20221010T121709Z
ORGANIZER;CN=5 Wells Development Centre:MAILTO:victoria.brennan@5wells.org.
 uk
END:VEVENT
END:VCALENDAR