BEGIN:VCALENDAR
VERSION:2.0
PRODID:Events Booking
BEGIN:VEVENT
UID:69e798eac0155
SUMMARY:Reading for Pleasure 3 2022 2023
DESCRIPTION:Please use this link to book:&nbsp\; &nbsp\;&nbsp\;Reading for 
 Pleasure 
 Please note that this training is at Redwell Primary School
 
LOCATION:Barnwell Rd\, Wellingborough NN8 5LQ\, UK
DTSTART:20230323T160000Z
DTEND:20230323T173000Z
DTSTAMP:20221019T134617Z
ORGANIZER;CN=5 Wells Development Centre:MAILTO:victoria.brennan@5wells.org.
 uk
GEO:52.314941;-0.712512
X-APPLE-STRUCTURED-LOCATION;VALUE=URI;X-ADDRESS=Barnwell Rd\, Wellingboroug
 h NN8 5LQ\, UK;X-APPLE-RADIUS=72;X-TITLE=Redwell Primary School:52.314941;
 -0.712512
END:VEVENT
END:VCALENDAR