BEGIN:VCALENDAR
VERSION:2.0
PRODID:Events Booking
BEGIN:VEVENT
UID:69e7cba768bff
SUMMARY:TT3101 Team Teach Training 
DESCRIPTION:Places are very limited\, please call us for more information.
 
 01933 400549 or victoria.brennan@5Wells.org.uk
 
LOCATION:Barnwell Rd\, Wellingborough NN8\, UK
DTSTART:20230131T090000Z
DTEND:20230131T160000Z
DTSTAMP:20221207T141639Z
ORGANIZER;CN=5 Wells Development Centre:MAILTO:victoria.brennan@5wells.org.
 uk
GEO:52.314941;-0.712512
X-APPLE-STRUCTURED-LOCATION;VALUE=URI;X-ADDRESS=Barnwell Rd\, Wellingboroug
 h NN8\, UK;X-APPLE-RADIUS=72;X-TITLE=5 Wells Development Centre @ Redwell 
 Primary :52.314941;-0.712512
END:VEVENT
END:VCALENDAR