BEGIN:VCALENDAR
VERSION:2.0
PRODID:Events Booking
BEGIN:VEVENT
UID:69ed6d53970f6
SUMMARY:OS2809 Online Safety training with Simon Aston
DESCRIPTION:
 &nbsp\;
 Online Safety Training - Staff Awareness Session

  This is a 2 hour session for E-Safety Awareness for teaching staff\, prac
 titioners and staff involved with working with young people.
 - The impor
 tance of being safe using social media
 - Advice and guidance on ways to 
 keep young people safe online
 - Warning signs for online grooming
 - Wh
 ere to find effective resources
 - Support within e-safety
 - Case studi
 es
 - What laws and consequences fit in with E-Safety
 - Consequences of
  the digital footprint
 - Advice on how to deal with E-Safety concerns in
  your setting
LOCATION:Barnwell Rd\, Wellingborough NN8\, UK
DTSTART:20170928T150000Z
DTEND:20170928T170000Z
DTSTAMP:20260426T014139Z
ORGANIZER;CN=5 Wells Development Centre:MAILTO:victoria.brennan@5wells.org.
 uk
GEO:52.314941;-0.712512
X-APPLE-STRUCTURED-LOCATION;VALUE=URI;X-ADDRESS=Barnwell Rd\, Wellingboroug
 h NN8\, UK;X-APPLE-RADIUS=72;X-TITLE=5 Wells Development Centre @ Redwell 
 Primary :52.314941;-0.712512
END:VEVENT
END:VCALENDAR