BEGIN:VCALENDAR
VERSION:2.0
PRODID:Events Booking
BEGIN:VEVENT
UID:69e7b1e147fee
SUMMARY:PREAD2501 Effective Reading in Primary (2)
DESCRIPTION:
 
LOCATION:Barnwell Rd\, Wellingborough NN8\, UK
DTSTART:20230208T090000Z
DTEND:20230125T120000Z
DTSTAMP:20221118T115903Z
ORGANIZER;CN=5 Wells Development Centre:MAILTO:victoria.brennan@5wells.org.
 uk
GEO:52.314941;-0.712512
X-APPLE-STRUCTURED-LOCATION;VALUE=URI;X-ADDRESS=Barnwell Rd\, Wellingboroug
 h NN8\, UK;X-APPLE-RADIUS=72;X-TITLE=5 Wells Development Centre @ Redwell 
 Primary :52.314941;-0.712512
END:VEVENT
END:VCALENDAR