BEGIN:VCALENDAR
VERSION:2.0
PRODID:Events Booking
BEGIN:VEVENT
UID:69e755389096c
SUMMARY:EFAAW0506 Emergency First Aid at Work training
DESCRIPTION:
 &nbsp\;
 
DTSTART:20230605T080000Z
DTEND:20230605T140000Z
DTSTAMP:20230113T165755Z
ORGANIZER;CN=5 Wells Development Centre:MAILTO:victoria.brennan@5wells.org.
 uk
END:VEVENT
END:VCALENDAR