BEGIN:VCALENDAR
VERSION:2.0
PRODID:Events Booking
BEGIN:VEVENT
UID:69ed6e3e79e38
SUMMARY:DSL2009 Designated Safeguarding Lead
DESCRIPTION:Designated Safeguarding Lead Course
 This is an advanced cours
 e for those senior members of school staff who wish to undertake the role 
 of DSL.&nbsp\; The role of DSL is crucial to the safeguarding and welfare 
 of children.&nbsp\; This course aims to equip delegates with the necessary
  knowledge and skills to undertake this demanding role.
 Course content i
 ncludes\;
 
 The main roles and responsibilities of the designated safeg
 uarding lead
 Consideration of personal values in relation to child abuse
  and their impact on professional practice
 Developing organisational pra
 ctice in relation to child safety and welfare
 Examining barriers prevent
 ing children from reporting abuse or concerns
 Effective response to disc
 losures by children
 Barriers to reporting by staff methods of overcoming
  them
 Correct steps and decisions to take following concerns raised
 Th
 e likely process following a referral to social services or the police and
  the role of the school
 Confidentiality and information sharing
 The em
 otional impact of safeguarding and safeguarding issues on staff\, the DSL 
 and others
 Organisational policy and process development
 
 The course
  will use case studies and examples of safeguarding work. 
 Delegates sho
 uld be familiar with current relevant legislation and the Keeping Children
  Safe in Education document.&nbsp\; These will be referred to throughout t
 he course.
 &nbsp\;
 Our training will be facilitated by one of our NLGs
  (National Leader of Governance) - Trevor Kendrick.&nbsp\; You can read mo
 re about Trevor here: https://www.5wellstsa.org.uk/index.php/school-to-sch
 ool/national-leaders-of-governance/17-trevor-kendrick  
LOCATION:Barnwell Rd\, Wellingborough NN8\, UK
DTSTART:20170920T080000Z
DTEND:20170920T143000Z
DTSTAMP:20260426T014534Z
ORGANIZER;CN=5 Wells Development Centre:MAILTO:victoria.brennan@5wells.org.
 uk
GEO:52.314941;-0.712512
X-APPLE-STRUCTURED-LOCATION;VALUE=URI;X-ADDRESS=Barnwell Rd\, Wellingboroug
 h NN8\, UK;X-APPLE-RADIUS=72;X-TITLE=5 Wells Development Centre @ Redwell 
 Primary :52.314941;-0.712512
END:VEVENT
END:VCALENDAR