BEGIN:VCALENDAR
VERSION:2.0
PRODID:Events Booking
BEGIN:VEVENT
UID:69ed6c53bcef4
SUMMARY:DSLR2209 DSL Refresher Course
DESCRIPTION:Designated Safeguarding Lead Refresher Course
 A course design
 ed for existing DSLs that will meet existing requirements for professional
  development in this area and to provide delegates with an opportunity to 
 network with practitioners and to share best practice.
 The course recogn
 ises the experience and knowledge of current DSLs and aims to build on tha
 t knowledge and to support DSLs in their role.
 The course is interactive
  and a number of case studies will be provided to explore learning and to 
 develop practice.
 The course is of half a day&rsquo\;s duration. All mat
 erials are provided.
 &nbsp\;
 Our training will be facilitated by one o
 f our NLGs (National Leader of Governance) - Trevor Kendrick.&nbsp\; You c
 an read more about Trevor here: https://www.5wellstsa.org.uk/index.php/sch
 ool-to-school/national-leaders-of-governance/17-trevor-kendrick 
 &nbsp\;
 
 &nbsp\;
LOCATION:Barnwell Rd\, Wellingborough NN8\, UK
DTSTART:20170922T120000Z
DTEND:20170922T150000Z
DTSTAMP:20260426T013723Z
ORGANIZER;CN=5 Wells Development Centre:MAILTO:victoria.brennan@5wells.org.
 uk
GEO:52.314941;-0.712512
X-APPLE-STRUCTURED-LOCATION;VALUE=URI;X-ADDRESS=Barnwell Rd\, Wellingboroug
 h NN8\, UK;X-APPLE-RADIUS=72;X-TITLE=5 Wells Development Centre @ Redwell 
 Primary :52.314941;-0.712512
END:VEVENT
END:VCALENDAR