BEGIN:VCALENDAR
VERSION:2.0
PRODID:Events Booking
BEGIN:VEVENT
UID:69ed6b979db06
SUMMARY:DG1409 Developing Governance
DESCRIPTION:Developing Governance
 This course is designed for school gove
 rnors who have been in post for a period of time and who would like to dev
 elop their skills further. The course is designed to challenge the critica
 l thinking skills of governors and to explore in more depth the knowledge 
 and skills needed to undertake the role of school governors and board memb
 er.
 Subjects include\;
 
 Challenging conversations
 Responsibilities
  to the Head Teacher
 Handling allegations/complaints
 Understanding pan
 el work
 Identifying strategic and operational roles
 Data consideration
 s
 Evaluating the board
 Performance management considerations
 Financi
 al questions for the School Business Manager
 
 Our training will be fac
 ilitated by one of our NLGs (National Leader of Governance) - Trevor Kendr
 ick.&nbsp\; You can read more about Trevor here: https://www.5wellstsa.org
 .uk/index.php/school-to-school/national-leaders-of-governance/17-trevor-ke
 ndrick 
LOCATION:Barnwell Rd\, Wellingborough NN8\, UK
DTSTART:20170914T170000Z
DTEND:20170914T190000Z
DTSTAMP:20260426T013415Z
ORGANIZER;CN=5 Wells Development Centre:MAILTO:victoria.brennan@5wells.org.
 uk
GEO:52.314941;-0.712512
X-APPLE-STRUCTURED-LOCATION;VALUE=URI;X-ADDRESS=Barnwell Rd\, Wellingboroug
 h NN8\, UK;X-APPLE-RADIUS=72;X-TITLE=5 Wells Development Centre @ Redwell 
 Primary :52.314941;-0.712512
END:VEVENT
END:VCALENDAR