BEGIN:VCALENDAR
VERSION:2.0
PRODID:Events Booking
BEGIN:VEVENT
UID:69e6e46076319
SUMMARY:Reading for Pleasure 2023
DESCRIPTION:
 To book\, please complete this link:&nbsp\;https://forms.off
 ice.com/e/gM0DekH09R
DTSTART:20231128T160000Z
DTSTAMP:20231004T004859Z
ORGANIZER;CN=5 Wells Development Centre:MAILTO:victoria.brennan@5wells.org.
 uk
END:VEVENT
END:VCALENDAR