BEGIN:VCALENDAR
VERSION:2.0
PRODID:Events Booking
BEGIN:VEVENT
UID:69eb290e34843
SUMMARY:Reading for Pleasure 2023
DESCRIPTION:
DTSTART:20240618T014700Z
DTSTAMP:20231004T004859Z
ORGANIZER;CN=5 Wells Development Centre:MAILTO:victoria.brennan@5wells.org.
 uk
END:VEVENT
END:VCALENDAR