BEGIN:VCALENDAR
VERSION:2.0
PRODID:Events Booking
BEGIN:VEVENT
UID:69e6c92bd3bef
SUMMARY:N2Y6 New To Year 6 STA Training 
DESCRIPTION:New to Year 6 Teachers will need to book 
 parts 1 and 2&nbsp\
 ;
 Training will be facilitated at Redwell Primary
 
LOCATION:Barnwell Rd\, Wellingborough NN8 5LQ\, UK
DTSTART:20231206T093000Z
DTEND:20231206T123000Z
DTSTAMP:20231016T153209Z
ORGANIZER;CN=5 Wells Development Centre:MAILTO:victoria.brennan@5wells.org.
 uk
GEO:52.314941;-0.712512
X-APPLE-STRUCTURED-LOCATION;VALUE=URI;X-ADDRESS=Barnwell Rd\, Wellingboroug
 h NN8 5LQ\, UK;X-APPLE-RADIUS=72;X-TITLE=Redwell Primary School:52.314941;
 -0.712512
END:VEVENT
END:VCALENDAR