BEGIN:VCALENDAR
VERSION:2.0
PRODID:Events Booking
BEGIN:VEVENT
UID:69e6ad696f615
SUMMARY:TT3001 Team Teach Training
DESCRIPTION:Please note that this training will be delivered at Redwell Pri
 mary School.
LOCATION:Barnwell Rd\, Wellingborough NN8 5LQ\, UK
DTSTART:20240130T090000Z
DTEND:20240130T160000Z
DTSTAMP:20221207T141639Z
ORGANIZER;CN=5 Wells Development Centre:MAILTO:victoria.brennan@5wells.org.
 uk
GEO:52.314941;-0.712512
X-APPLE-STRUCTURED-LOCATION;VALUE=URI;X-ADDRESS=Barnwell Rd\, Wellingboroug
 h NN8 5LQ\, UK;X-APPLE-RADIUS=72;X-TITLE=Redwell Primary School:52.314941;
 -0.712512
END:VEVENT
END:VCALENDAR