BEGIN:VCALENDAR
VERSION:2.0
PRODID:Events Booking
BEGIN:VEVENT
UID:69e581737cd41
SUMMARY:DSL2201 DSL Foundation (new to DSL)
DESCRIPTION:
LOCATION:Barnwell Rd\, Wellingborough NN8\, UK
DTSTART:20250122T090000Z
DTEND:20250122T160000Z
DTSTAMP:20230112T105316Z
ORGANIZER;CN=5 Wells Development Centre:MAILTO:victoria.brennan@5wells.org.
 uk
GEO:52.314941;-0.712512
X-APPLE-STRUCTURED-LOCATION;VALUE=URI;X-ADDRESS=Barnwell Rd\, Wellingboroug
 h NN8\, UK;X-APPLE-RADIUS=72;X-TITLE=5 Wells Development Centre @ Redwell 
 Primary :52.314941;-0.712512
END:VEVENT
END:VCALENDAR