BEGIN:VCALENDAR
VERSION:2.0
PRODID:Events Booking
BEGIN:VEVENT
UID:69ed59b2801bf
SUMMARY:NTG1010 New to Governance 1/2
DESCRIPTION:New to Governance 
 The course is a vital part of the inductio
 n of new school governors\, the course covers the essential elements of th
 e role of the governing board and of the governors that make up the board.
  The course acknowledges the need for all governors to be properly inducte
 d and developed to ensure they possess the knowledge and skills required t
 o perform their functions confidently and effectively.
 The course is des
 igned for not only new governors but governors who wish to refresh their k
 nowledge and skills are very welcome. The sessions are interactive and act
 ivities use real examples to illustrate challenges that governors face.
 
 The sessions will explore the key roles of the governing board as outlined
  in the current Governance Handbook\; particular emphasis is placed on the
  three core functions of school governance\;
 
 Ensuring clarity of visi
 on\, ethos and strategic direction
 Holding the Head Teacher to account f
 or the educational performance of the school and its pupils\, and the perf
 ormance management of staff
 Overseeing the financial performance of the 
 school and making sure its money is well spent
 
 The course will examin
 e how these core functions relate to the everyday functioning of the schoo
 l and its board of governors and the responsibilities of the board to the 
 school.
 Please note this course is in two parts. (2x2 hour sessions)
 O
 ur training will be facilitated by one of our NLGs (National Leader of Gov
 ernance) - Trevor Kendrick.&nbsp\; You can read more about Trevor here: ht
 tps://www.5wellstsa.org.uk/index.php/school-to-school/national-leaders-of-
 governance/17-trevor-kendrick&nbsp\; 
 &nbsp\;The second session can be f
 ound here:&nbsp\; https://www.5wellstsa.org.uk/index.php/events/training-c
 pd/62-ntg1610-new-to-governance-2-2
 &nbsp\;
 &nbsp\;
LOCATION:Barnwell Rd\, Wellingborough NN8\, UK
DTSTART:20171010T170000Z
DTEND:20171010T190000Z
DTSTAMP:20260426T001754Z
ORGANIZER;CN=5 Wells Development Centre:MAILTO:victoria.brennan@5wells.org.
 uk
GEO:52.314941;-0.712512
X-APPLE-STRUCTURED-LOCATION;VALUE=URI;X-ADDRESS=Barnwell Rd\, Wellingboroug
 h NN8\, UK;X-APPLE-RADIUS=72;X-TITLE=5 Wells Development Centre @ Redwell 
 Primary :52.314941;-0.712512
END:VEVENT
END:VCALENDAR