BEGIN:VCALENDAR
VERSION:2.0
PRODID:Events Booking
BEGIN:VEVENT
UID:69e56cae61fc0
SUMMARY:Reading for Pleasure 2025 (2)
DESCRIPTION:
DTSTART:20250227T154500Z
DTEND:20250227T170000Z
DTSTAMP:20241114T185054Z
ORGANIZER;CN=5 Wells Development Centre:MAILTO:victoria.brennan@5wells.org.
 uk
END:VEVENT
END:VCALENDAR