BEGIN:VCALENDAR
VERSION:2.0
PRODID:Events Booking
BEGIN:VEVENT
UID:69e5564862083
SUMMARY:Reading for Pleasure 2025 (3)
DESCRIPTION:
DTSTART:20250327T154500Z
DTEND:20250327T170000Z
DTSTAMP:20241114T185054Z
ORGANIZER;CN=5 Wells Development Centre:MAILTO:victoria.brennan@5wells.org.
 uk
END:VEVENT
END:VCALENDAR