BEGIN:VCALENDAR
VERSION:2.0
PRODID:Events Booking
BEGIN:VEVENT
UID:69e54100abc7d
SUMMARY:Reading for Pleasure 2025 (4)
DESCRIPTION:
DTSTART:20250508T144500Z
DTEND:20250508T160000Z
DTSTAMP:20241114T185054Z
ORGANIZER;CN=5 Wells Development Centre:MAILTO:victoria.brennan@5wells.org.
 uk
END:VEVENT
END:VCALENDAR