BEGIN:VCALENDAR
VERSION:2.0
PRODID:Events Booking
BEGIN:VEVENT
UID:69ed3392a0a8f
SUMMARY:GM0712 Growth Mindset Training
DESCRIPTION:
 &nbsp\;
 Growth Mindset
 &nbsp\;
 The concept of a growth
  mindset was developed by psychologist Carol Dweck and popularized in her 
 book\, Mindset: The New Psychology of Success. In recent years\, many scho
 ols and educators have started using Dweck&rsquo\;s theories to inform how
  they teach students.
 
 Our session will look at what is growth mindset
 ? 
 Fixed mindset v growth mindset. Growth mindset talk.&nbsp\; Examples 
 of growth mindset at Redwell Primary School.
 An opportunity to share exa
 mples from your school.
 Carol Dweck video&hellip\;how not to talk to you
 r children!&nbsp\; How to grow your brain &ndash\; London Taxi drivers &nd
 ash\; proof of brain growth!
 Books to read and You tube clips to share w
 ith your schools.
 
LOCATION:Barnwell Rd\, Wellingborough NN8\, UK
DTSTART:20171207T130000Z
DTEND:20171207T153000Z
DTSTAMP:20260425T213514Z
ORGANIZER;CN=5 Wells Development Centre:MAILTO:victoria.brennan@5wells.org.
 uk
GEO:52.314941;-0.712512
X-APPLE-STRUCTURED-LOCATION;VALUE=URI;X-ADDRESS=Barnwell Rd\, Wellingboroug
 h NN8\, UK;X-APPLE-RADIUS=72;X-TITLE=5 Wells Development Centre @ Redwell 
 Primary :52.314941;-0.712512
END:VEVENT
END:VCALENDAR