BEGIN:VCALENDAR
VERSION:2.0
PRODID:Events Booking
BEGIN:VEVENT
UID:69ed590705731
SUMMARY:ASP1210TW Analyse School Performance
DESCRIPTION:Specifically tailored to meet the needs of Governing Bodies.
 
 
 &nbsp\;
 As you may be aware\, the DfE are in the process of updating 
 their School Data software and RaiseOnline will soon be replaced by ASP.

  Quote from DfE website:
 
 The Department for Education (DfE) are launc
 hing a new service\, which will provide schools and other existing user gr
 oups with detailed performance analysis to support local school improvemen
 t as a replacement to RAISEonline. We hope to have this ready in late Apri
 l/early May. The name of the new service will be announced as soon as conf
 irmed.
 The current RAISEonline service will be available until Monday 31
  July 2017. This will allow users to familiarise themselves with the new s
 ervice and provide feedback before the current one is taken offline.&nbsp\
 ;&nbsp\;
 During this period of dual running we will continue to develop 
 the new service and plan to release an updated version in July 2017. Durin
 g this time\, we will also seek your feedback through formal testing and u
 ser surveys which are built into the new service.&nbsp\;
 Inspectors will
  continue to use the data available in the existing summary report and ins
 pection dashboard to prepare for inspections\, until 2017 datasets are rel
 eased in the autumn term.
 
 We have scheduled training from our expert 
 facilitators to take you through the new system and ensure that you are co
 mfortable with how it all works and where to find all of the data you\, as
  a school\, need.&nbsp\; We have built in a little leeway into our date to
  try to ensure that the training will coincide with the release of the 201
 7 data.
 These sessions will fill very quickly so we are offering you the
  opportunity to book your slot now - if we have to change the date we will
  advise as quickly as possible.
 
LOCATION:Barnwell Rd\, Wellingborough NN8\, UK
DTSTART:20171012T170000Z
DTEND:20171012T190000Z
DTSTAMP:20260426T001503Z
ORGANIZER;CN=5 Wells Development Centre:MAILTO:victoria.brennan@5wells.org.
 uk
GEO:52.314941;-0.712512
X-APPLE-STRUCTURED-LOCATION;VALUE=URI;X-ADDRESS=Barnwell Rd\, Wellingboroug
 h NN8\, UK;X-APPLE-RADIUS=72;X-TITLE=5 Wells Development Centre @ Redwell 
 Primary :52.314941;-0.712512
END:VEVENT
END:VCALENDAR