BEGIN:VCALENDAR
VERSION:2.0
PRODID:Events Booking
BEGIN:VEVENT
UID:69ed6e91cc143
SUMMARY:AA1909 Anaphylaxis Awareness and Safe use of Auto-Injector
DESCRIPTION:
 In an emergency - and in accordance with the information giv
 en in both the DfEs guidance and in JSP 342 - an adrenaline injection such
  as an EpiPen can be administered for anaphylaxis by suitably trained staf
 f.
 &nbsp\;
 This one hour training course will cover:
 
 Recognition 
 of anaphylaxis reaction
 First Aid treatment
 Safe Use of Adrenaline Aut
 o-Injector
 
LOCATION:Barnwell Rd\, Wellingborough NN8\, UK
DTSTART:20170919T130000Z
DTEND:20170919T140000Z
DTSTAMP:20260426T014657Z
ORGANIZER;CN=5 Wells Development Centre:MAILTO:victoria.brennan@5wells.org.
 uk
GEO:52.314941;-0.712512
X-APPLE-STRUCTURED-LOCATION;VALUE=URI;X-ADDRESS=Barnwell Rd\, Wellingboroug
 h NN8\, UK;X-APPLE-RADIUS=72;X-TITLE=5 Wells Development Centre @ Redwell 
 Primary :52.314941;-0.712512
END:VEVENT
END:VCALENDAR