BEGIN:VCALENDAR
VERSION:2.0
PRODID:Events Booking
BEGIN:VEVENT
UID:69ed6cecaeb9e
SUMMARY:NQT Primary 2017 2018 Cohort 2
DESCRIPTION:NQT Primary Cohort 2 
 &nbsp\;
 An 8 part course aimed at new
 ly qualified teachers (NQTs) in Primary School settings.&nbsp\; Setting th
 e foundation skills for a successful career\, impacting the lives of young
  people in their care.
 &nbsp\;
 Dates:
 27th September
 18th October
 
 15th November
 6th December
 24th January
 28th February
 14th March
 
 25th April
 To make a booking\, please follow this link to the Teachin
 g School Partnership website.
 http://tsp.education/index.php/training/nq
 t/nqt-primary-training-cohort-2
LOCATION:Northampton School for Boys\, Billing Road\, Northampton\, NN1 5RT
DTSTART:20170927T133000Z
DTEND:20170926T230000Z
DTSTAMP:20260426T013956Z
ORGANIZER;CN=5 Wells Development Centre:MAILTO:victoria.brennan@5wells.org.
 uk
GEO:52.238701;-0.874699
X-APPLE-STRUCTURED-LOCATION;VALUE=URI;X-ADDRESS=Northampton School for Boys
 \, Billing Road\, Northampton\, NN1 5RT;X-APPLE-RADIUS=72;X-TITLE=NTCTSA:5
 2.238701;-0.874699
END:VEVENT
END:VCALENDAR