BEGIN:VCALENDAR
VERSION:2.0
PRODID:Events Booking
BEGIN:VEVENT
UID:69ed46652d998
SUMMARY:NQT Secondary 2017 2018
DESCRIPTION:NQT Secondary 
 &nbsp\;
 A 2 part course aimed at newly quali
 fied teachers (NQTs) in Secondary School settings.&nbsp\; It will lay the 
 foundation for a successful career and inspire ideas on how to be a positi
 ve influence on the lives of young people in their care.
 &nbsp\;
 Dates
 :
 14th November
 20th February
 &nbsp\;
 To make a booking\, please f
 ollow this link to the Teaching School Partnership website.
 http://tsp.e
 ducation/index.php/training/nqts 
LOCATION:Northampton School for Boys\, Billing Road\, Northampton\, NN1 5RT
DTSTART:20171114T090000Z
DTEND:20171114T160000Z
DTSTAMP:20260425T225533Z
ORGANIZER;CN=5 Wells Development Centre:MAILTO:victoria.brennan@5wells.org.
 uk
GEO:52.238701;-0.874699
X-APPLE-STRUCTURED-LOCATION;VALUE=URI;X-ADDRESS=Northampton School for Boys
 \, Billing Road\, Northampton\, NN1 5RT;X-APPLE-RADIUS=72;X-TITLE=NTCTSA:5
 2.238701;-0.874699
END:VEVENT
END:VCALENDAR