BEGIN:VCALENDAR
VERSION:2.0
PRODID:Events Booking
BEGIN:VEVENT
UID:69ed47010de59
SUMMARY:Middle Leaders 2017 2018
DESCRIPTION:Middle Leaders 
 &nbsp\;
 A 4 part course aimed at existing a
 nd aspiring Middle Leaders who want to proactively improve their Managemen
 t and Leadership skills in order to make an impact on Teaching and Learnin
 g standards within their settings.
 &nbsp\;
 Dates:
 9th November
 25t
 h January 
 25th April 
 5th July
 &nbsp\;
 To make a booking\, please
  follow this link to the Teaching School Partnership website.
 http://tsp
 .education/index.php/training/mld
LOCATION:The Pyghtle\, Wellingborough NN8 4RP\, UK
DTSTART:20171109T090000Z
DTEND:20171109T160000Z
DTSTAMP:20260425T225809Z
ORGANIZER;CN=5 Wells Development Centre:MAILTO:victoria.brennan@5wells.org.
 uk
GEO:52.308726;-0.69584
X-APPLE-STRUCTURED-LOCATION;VALUE=URI;X-ADDRESS=The Pyghtle\, Wellingboroug
 h NN8 4RP\, UK;X-APPLE-RADIUS=72;X-TITLE=Hatton Teaching School Alliance:5
 2.308726;-0.69584
END:VEVENT
END:VCALENDAR