BEGIN:VCALENDAR
VERSION:2.0
PRODID:Events Booking
BEGIN:VEVENT
UID:69ed6c0b1a32a
SUMMARY:New Head Teachers' Programme 2017 2018
DESCRIPTION:Please note that this programme is held over TWO venues
 &nbsp
 \;
 New Head Teachers' Programme 
 &nbsp\;
 An 8 part programme aimed a
 t Head Teachers who have recently taken on their first Headship in Primary
 \, Secondary and Special School settings. 
 Dates:
 29th September
 12t
 h October
 10th November 
 29th November&nbsp\; 
 12th December&nbsp\; 
 
 17th January&nbsp\; 
 9th February&nbsp\;&nbsp\;&nbsp\; 
 9th March

  &nbsp\;
 To make a booking\, please follow this link to the Teaching Sch
 ool Partnership website.
 http://tsp.education/index.php/training/htm 
LOCATION:Barnwell Rd\, Wellingborough NN8\, UK
DTSTART:20170929T083000Z
DTEND:20170929T110000Z
DTSTAMP:20260426T013611Z
ORGANIZER;CN=5 Wells Development Centre:MAILTO:victoria.brennan@5wells.org.
 uk
GEO:52.314941;-0.712512
X-APPLE-STRUCTURED-LOCATION;VALUE=URI;X-ADDRESS=Barnwell Rd\, Wellingboroug
 h NN8\, UK;X-APPLE-RADIUS=72;X-TITLE=5 Wells Development Centre @ Redwell 
 Primary :52.314941;-0.712512
END:VEVENT
END:VCALENDAR