BEGIN:VCALENDAR
VERSION:2.0
PRODID:Events Booking
BEGIN:VEVENT
UID:69ed4c2ed58f3
SUMMARY:SM0611 Using Social Media to Promote Your School
DESCRIPTION:POSTPONED UNTIL THE NEW YEAR
 &nbsp\;
 
 Social Media for Sc
 hools
 
 Introduction to Social Networks\; scale / potential value
 Mos
 t recommended for schools
 Best Practice for recommended networks
 Top 1
 0 Tips
 Privacy &amp\; Security
 Case Study : Teach Northamptonshire
 
 
 This session is suited both to beginners and to schools that are establi
 shed but not realising their full potential socially.
LOCATION:Barnwell Rd\, Wellingborough NN8\, UK
DTSTART:20171106T100000Z
DTEND:20171106T120000Z
DTSTAMP:20260425T232014Z
ORGANIZER;CN=5 Wells Development Centre:MAILTO:victoria.brennan@5wells.org.
 uk
GEO:52.314941;-0.712512
X-APPLE-STRUCTURED-LOCATION;VALUE=URI;X-ADDRESS=Barnwell Rd\, Wellingboroug
 h NN8\, UK;X-APPLE-RADIUS=72;X-TITLE=5 Wells Development Centre @ Redwell 
 Primary :52.314941;-0.712512
END:VEVENT
END:VCALENDAR