BEGIN:VCALENDAR
VERSION:2.0
PRODID:Events Booking
BEGIN:VEVENT
UID:69ed713f1528d
SUMMARY:SGG2009 Safeguarding for Governors
DESCRIPTION:Postponed until later in the year
 Safeguarding: the Governors
 ' role
 The session is designed to provide governors with assigned safegu
 arding responsibilities with the knowledge and skills to undertake their r
 ole.&nbsp\;
 The session will explain the legal context for safeguarding 
 in schools and through discussion and activities will help delegates to de
 velop their awareness of whole school safeguarding issues and the responsi
 bilities of governing boards in relation to safeguarding.&nbsp\;
 The wor
 kshop will provide a role description for safeguarding lead governors\, an
 d tools to enable them to undertake their compliance and monitoring roles.
 &nbsp\;
 The session is interactive and uses real case scenarios&nbsp\;to
  develop understanding.&nbsp\;
 &nbsp\;
 &nbsp\;
 Our training will be 
 facilitated by one of our NLGs (National Leader of Governance) - Trevor Ke
 ndrick.&nbsp\; You can read more about Trevor here: https://www.5wellstsa.
 org.uk/index.php/school-to-school/national-leaders-of-governance/17-trevor
 -kendrick 
LOCATION:Barnwell Rd\, Wellingborough NN8\, UK
DTSTART:20170920T170000Z
DTEND:20170920T190000Z
DTSTAMP:20260426T015823Z
ORGANIZER;CN=5 Wells Development Centre:MAILTO:victoria.brennan@5wells.org.
 uk
GEO:52.314941;-0.712512
X-APPLE-STRUCTURED-LOCATION;VALUE=URI;X-ADDRESS=Barnwell Rd\, Wellingboroug
 h NN8\, UK;X-APPLE-RADIUS=72;X-TITLE=5 Wells Development Centre @ Redwell 
 Primary :52.314941;-0.712512
END:VEVENT
END:VCALENDAR