BEGIN:VCALENDAR
VERSION:2.0
PRODID:Events Booking
BEGIN:VEVENT
UID:69ed6f57422c3
SUMMARY:T2T1409 Train to Teach Event
DESCRIPTION:
 
 
 
 
 5 Wells Teaching School Alliance train to teach 
 in Northamptonshire information evening
 14 September 2017 at 17:00 to 14
  September 2017 at 19:00 in  Northampton at the  Franklin's Gardens (North
 ampton Saints Rugby Ground)
 
 
 
 
 
 
 
 
 Event info:
 Join S
 chool Direct Providers from across Northamptonshire for information\, help
  and advice on how to train to teach.
 We are looking for career changers
 \, graduates or current students to train to teach in primary and secondar
 y schools across Northamptonshire. Our School Direct programmes offer you 
 a school-based route to Qualified Teacher Status\, combining in-school tra
 ining with experienced teachers\, with the academic knowledge to underpin 
 your teaching practice.
 There are 2 presentations by experienced school 
 leaders during the evening (5:15pm and 6:15pm). They will give you informa
 tion about the training courses\, how to get school experience as well as 
 advice on how to write an effective personal statement.
 Representatives 
 from all of Northamptonshire's School Direct teacher training providers wi
 ll be on hand to chat to you about the courses they offer. To view the ran
 ge of courses that are on offer please visit the Teach Northamptonshire we
 bsite\, where you will be able to search for providers offering training a
 s either primary school teachers or in specific secondary subjects.
 Nort
 hamptonshire is a great place to live and work\, we look forward to helpin
 g you to start a brilliant teaching career in our beautiful county.
 To a
 ttend this event\, please register on our website.
 
 
 
 
LOCATION:Franklin's Gardens\, Weedon Rd\, Northampton NN5 5BG\, UK
DTSTART:20170914T160000Z
DTEND:20170914T180000Z
DTSTAMP:20260426T015015Z
ORGANIZER;CN=5 Wells Development Centre:MAILTO:victoria.brennan@5wells.org.
 uk
GEO:52.239522;-0.919676
X-APPLE-STRUCTURED-LOCATION;VALUE=URI;X-ADDRESS=Franklin's Gardens\, Weedon
  Rd\, Northampton NN5 5BG\, UK;X-APPLE-RADIUS=72;X-TITLE=Northampton Saint
 s - Franklin's Gardens:52.239522;-0.919676
END:VEVENT
END:VCALENDAR