BEGIN:VCALENDAR
VERSION:2.0
PRODID:Events Booking
BEGIN:VEVENT
UID:69ed58ccd0b61
SUMMARY:EF0210 Effective Minuting
DESCRIPTION:
 &nbsp\;
 Most people struggle to note take\, however\, to b
 e able to produce accurate meeting minutes\, minute takers need to be skil
 led at note taking.
 This course will give delegates tools and techniques
  to work assertively with the Chair person to enable a smoothly run meetin
 g. The day contains plenty of note taking practise and practise in produci
 ng different styles of minutes.&nbsp\; How to lay out minutes in an easy t
 o record format will also be covered.
 Who should attend:&nbsp\;&nbsp\;&n
 bsp\;&nbsp\; Anyone who needs to note take and produce minutes of meetings
 .
 By the end of the course you will be able to:&nbsp\; State the resp
 onsibilities of the minute taker&nbsp\; Identify the appropriate positi
 on to sit in a room to take minutes effectively&nbsp\; Work with the Ch
 air to help you take effective notes&nbsp\; Be selective in recording i
 nformation and note taking&nbsp\; Identify how to interject for clarity
 &nbsp\; Use a format to ensure key information is recorded on the minut
 es template&nbsp\; Lay out information in a style suited to you&nbsp
 \; Write the action points from the meeting notes&nbsp\; Develop and ex
 tend their note taking style following practise sessions&nbsp\; Produce
  action and summary based minutes based on their notes from the course
 &
 nbsp\;
 
LOCATION:Barnwell Rd\, Wellingborough NN8\, UK
DTSTART:20171002T080000Z
DTEND:20171002T143000Z
DTSTAMP:20260426T001404Z
ORGANIZER;CN=5 Wells Development Centre:MAILTO:victoria.brennan@5wells.org.
 uk
GEO:52.314941;-0.712512
X-APPLE-STRUCTURED-LOCATION;VALUE=URI;X-ADDRESS=Barnwell Rd\, Wellingboroug
 h NN8\, UK;X-APPLE-RADIUS=72;X-TITLE=5 Wells Development Centre @ Redwell 
 Primary :52.314941;-0.712512
END:VEVENT
END:VCALENDAR