BEGIN:VCALENDAR
VERSION:2.0
PRODID:Events Booking
BEGIN:VEVENT
UID:69ed592188a6b
SUMMARY:ASP1710AM Analyse School Performance
DESCRIPTION:New Session Added
 
 &nbsp\;
 As you may be aware\, the DfE 
 are in the process of updating their School Data software and RaiseOnline 
 will soon be replaced by ASP.
 Quote from DfE website:
 
 The Departmen
 t for Education (DfE) are launching a new service\, which will provide sch
 ools and other existing user groups with detailed performance analysis to 
 support local school improvement as a replacement to RAISEonline. We hope 
 to have this ready in late April/early May. The name of the new service wi
 ll be announced as soon as confirmed.
 The current RAISEonline service wi
 ll be available until Monday 31 July 2017. This will allow users to famili
 arise themselves with the new service and provide feedback before the curr
 ent one is taken offline.&nbsp\;&nbsp\;
 During this period of dual runni
 ng we will continue to develop the new service and plan to release an upda
 ted version in July 2017. During this time\, we will also seek your feedba
 ck through formal testing and user surveys which are built into the new se
 rvice.&nbsp\;
 Inspectors will continue to use the data available in the 
 existing summary report and inspection dashboard to prepare for inspection
 s\, until 2017 datasets are released in the autumn term.
 
 We have sche
 duled training from our expert facilitators to take you through the new sy
 stem and ensure that you are comfortable with how it all works and where t
 o find all of the data you\, as a school\, need.&nbsp\; We have built in a
  little leeway into our date to try to ensure that the training will coinc
 ide with the release of the 2017 data.
 These sessions will fill very qui
 ckly so we are offering you the opportunity to book your slot now - if we 
 have to change the date we will advise as quickly as possible.
 Multi boo
 king discount.&nbsp\; &pound\;100 for the first delegate\, &pound\;75 for 
 second and subsequent delegates
LOCATION:Barnwell Rd\, Wellingborough NN8\, UK
DTSTART:20171017T083000Z
DTEND:20171017T113000Z
DTSTAMP:20260426T001529Z
ORGANIZER;CN=5 Wells Development Centre:MAILTO:victoria.brennan@5wells.org.
 uk
GEO:52.314941;-0.712512
X-APPLE-STRUCTURED-LOCATION;VALUE=URI;X-ADDRESS=Barnwell Rd\, Wellingboroug
 h NN8\, UK;X-APPLE-RADIUS=72;X-TITLE=5 Wells Development Centre @ Redwell 
 Primary :52.314941;-0.712512
END:VEVENT
END:VCALENDAR