BEGIN:VCALENDAR
VERSION:2.0
PRODID:Events Booking
BEGIN:VEVENT
UID:69ed6dfd0325f
SUMMARY:FS1109 Bleeding\, Burns\, Bones and Choking
DESCRIPTION:
 
 Bleeding\, Bones\, Bumps and Choking
 Emergency First Ai
 d Training for Lunchtime Supervisors
 &nbsp\;
LOCATION:Barnwell Rd\, Wellingborough NN8\, UK
DTSTART:20170911T081500Z
DTEND:20170911T141500Z
DTSTAMP:20260426T014429Z
ORGANIZER;CN=5 Wells Development Centre:MAILTO:victoria.brennan@5wells.org.
 uk
GEO:52.314941;-0.712512
X-APPLE-STRUCTURED-LOCATION;VALUE=URI;X-ADDRESS=Barnwell Rd\, Wellingboroug
 h NN8\, UK;X-APPLE-RADIUS=72;X-TITLE=5 Wells Development Centre @ Redwell 
 Primary :52.314941;-0.712512
END:VEVENT
END:VCALENDAR