BEGIN:VCALENDAR
VERSION:2.0
PRODID:Events Booking
BEGIN:VEVENT
UID:69ed20b456bb9
SUMMARY:KM2601 Katherine Murby: Coaching for Senior Leaders (2)
DESCRIPTION:
 &nbsp\;Session 1 (round 2)
 Following our taster session\, 
 Katherine will be running 3 workshops for Senior Leaders. In these session
 s she will cover:
 &uml\;&nbsp\;The importance of managing yourself and c
 reating an effective work / life balance. Developing resilience. Opportuni
 ties to focus on your areas of strength to increase confidence levels impr
 oving your performance levels.
 &nbsp\;
LOCATION:Barnwell Rd\, Wellingborough NN8\, UK
DTSTART:20180126T090000Z
DTEND:20180126T153000Z
DTSTAMP:20260425T201444Z
ORGANIZER;CN=5 Wells Development Centre:MAILTO:victoria.brennan@5wells.org.
 uk
GEO:52.314941;-0.712512
X-APPLE-STRUCTURED-LOCATION;VALUE=URI;X-ADDRESS=Barnwell Rd\, Wellingboroug
 h NN8\, UK;X-APPLE-RADIUS=72;X-TITLE=5 Wells Development Centre @ Redwell 
 Primary :52.314941;-0.712512
END:VEVENT
END:VCALENDAR