BEGIN:VCALENDAR
VERSION:2.0
PRODID:Events Booking
BEGIN:VEVENT
UID:69ed0b580d214
SUMMARY:123 Magic 2202
DESCRIPTION:
 
 &nbsp\;
 What is 1-2-3 Magic?
 ANSWER: A programme that
  supports the 3 parenting roles:-
 Control Unwanted Behaviours 
 STOP be
 haviour
 Encourage Good Behaviour 
  START BEHAVIOUR
 Strengthening you
 r relationship with your child
 ENJOY
 What it is NOT:- 1-2-3 Magic is N
 OT Magic
 First session on Thursday 22nd February 2018
 9.15am till 11.3
 0am
 at
 5 Wells Teaching School (Redwell Primary School)
 Registrants 
 must attend all 4 sessions to complete the course
 &nbsp\;
 Dates are:&n
 bsp\;&nbsp\;&nbsp\;&nbsp\; 22nd February\, 1st March\, 8th March &amp\; 15
 th March 2018.
 Registering for the first session will ensure you get a p
 lace on all of the sessions.
 &nbsp\;
 &nbsp\;
LOCATION:Barnwell Rd\, Wellingborough NN8\, UK
DTSTART:20180222T091500Z
DTEND:20180222T113000Z
DTSTAMP:20260425T184336Z
ORGANIZER;CN=5 Wells Development Centre:MAILTO:victoria.brennan@5wells.org.
 uk
GEO:52.314941;-0.712512
X-APPLE-STRUCTURED-LOCATION;VALUE=URI;X-ADDRESS=Barnwell Rd\, Wellingboroug
 h NN8\, UK;X-APPLE-RADIUS=72;X-TITLE=5 Wells Development Centre @ Redwell 
 Primary :52.314941;-0.712512
END:VEVENT
END:VCALENDAR