BEGIN:VCALENDAR
VERSION:2.0
PRODID:Events Booking
BEGIN:VEVENT
UID:69ecf6b97a326
SUMMARY:123 Magic 1503
DESCRIPTION:Session 4
 &nbsp\;
 
 
 &nbsp\;
 What is 1-2-3 Magic?
 AN
 SWER: A programme that supports the 3 parenting roles:-
 Control Unwanted
  Behaviours 
 STOP behaviour
 Encourage Good Behaviour 
  START BEHAVIO
 UR
 Strengthening your relationship with your child
 ENJOY
 What it is 
 NOT:- 1-2-3 Magic is NOT Magic
 First session on Thursday 22nd February 2
 018
 9.15am till 11.30am
 at
 Redwell Primary School
LOCATION:Barnwell Rd\, Wellingborough NN8\, UK
DTSTART:20180315T091500Z
DTEND:20180315T113000Z
DTSTAMP:20260425T171537Z
ORGANIZER;CN=5 Wells Development Centre:MAILTO:victoria.brennan@5wells.org.
 uk
GEO:52.314941;-0.712512
X-APPLE-STRUCTURED-LOCATION;VALUE=URI;X-ADDRESS=Barnwell Rd\, Wellingboroug
 h NN8\, UK;X-APPLE-RADIUS=72;X-TITLE=5 Wells Development Centre @ Redwell 
 Primary :52.314941;-0.712512
END:VEVENT
END:VCALENDAR