BEGIN:VCALENDAR
VERSION:2.0
PRODID:Events Booking
BEGIN:VEVENT
UID:69ed1ff5a75be
SUMMARY:SR1601 Safer Recruitment
DESCRIPTION:It is a legal requirement that governing boards of both maintai
 ned schools and academy trusts carry out their functions with a view to sa
 feguarding and promoting the welfare of children. Boards must also have re
 gard to statutory guidance when considering what arrangements they need to
  make for this purpose. School Staffing (England) Regulations 2009 require
  all governing bodies&nbsp\; of maintained schools to ensure at least one 
 person on any appointment panel has undertaken safer recruitment training.
 &nbsp\; &nbsp\; &nbsp\;
 Is your school and its governing board legally c
 ompliant? Will it remain compliant?
LOCATION:Barnwell Rd\, Wellingborough NN8\, UK
DTSTART:20180116T130000Z
DTEND:20180116T160000Z
DTSTAMP:20260425T201133Z
ORGANIZER;CN=5 Wells Development Centre:MAILTO:victoria.brennan@5wells.org.
 uk
GEO:52.314941;-0.712512
X-APPLE-STRUCTURED-LOCATION;VALUE=URI;X-ADDRESS=Barnwell Rd\, Wellingboroug
 h NN8\, UK;X-APPLE-RADIUS=72;X-TITLE=5 Wells Development Centre @ Redwell 
 Primary :52.314941;-0.712512
END:VEVENT
END:VCALENDAR