BEGIN:VCALENDAR
VERSION:2.0
PRODID:Events Booking
BEGIN:VEVENT
UID:69ed58285fc6b
SUMMARY:GOV3110 Governor Network 
DESCRIPTION:We would like to invite all Governors to join us for tea and bi
 scuits to discuss our forthcoming Governors Network and how you would like
  it to work for you.
LOCATION:Barnwell Rd\, Wellingborough NN8\, UK
DTSTART:20171031T180000Z
DTEND:20171031T200000Z
DTSTAMP:20260426T001120Z
ORGANIZER;CN=5 Wells Development Centre:MAILTO:victoria.brennan@5wells.org.
 uk
GEO:52.314941;-0.712512
X-APPLE-STRUCTURED-LOCATION;VALUE=URI;X-ADDRESS=Barnwell Rd\, Wellingboroug
 h NN8\, UK;X-APPLE-RADIUS=72;X-TITLE=5 Wells Development Centre @ Redwell 
 Primary :52.314941;-0.712512
END:VEVENT
END:VCALENDAR