BEGIN:VCALENDAR
VERSION:2.0
PRODID:Events Booking
BEGIN:VEVENT
UID:69ed945e85525
SUMMARY:NTG1107 New to Governance 1/2
DESCRIPTION:New to Governance 
 The course is a vital part of the inductio
 n of new school governors\, the course covers the essential elements of th
 e role of the governing board and of the governors that make up the board.
  The course acknowledges the need for all governors to be properly inducte
 d and developed to ensure they possess the knowledge and skills required t
 o perform their functions confidently and effectively.
 The course is des
 igned for new governors but governors who wish to refresh their knowledge 
 and skills are very welcome. The sessions are interactive and activities u
 se real examples to illustrate challenges that governors face.
 The sessi
 ons will explore the key roles of the governing board as outlined in the c
 urrent Governance Handbook\; particular emphasis is placed on the three co
 re functions of school governance\;
 
 Ensuring clarity of vision\, etho
 s and strategic direction
 Holding the Head Teacher to account for the ed
 ucational performance of the school and its pupils\, and the performance m
 anagement of staff
 Overseeing the financial performance of the school an
 d making sure its money is well spent
 
 The course will examine how the
 se core functions relate to the everyday functioning of the school and its
  board of governors and the responsibilities of the board to the school.

  Please note this course is in two parts. (2x2 hour sessions)
 Our traini
 ng will be facilitated by one of our NLGs (National Leader of Governance) 
 - Trevor Kendrick.&nbsp\; You can read more about Trevor here: https://www
 .5wellstsa.org.uk/index.php/school-to-school/national-leaders-of-governanc
 e/17-trevor-kendrick&nbsp\; 
 &nbsp\;
 &nbsp\;
 &nbsp\;
LOCATION:Barnwell Rd\, Wellingborough NN8\, UK
DTSTART:20170711T170000Z
DTEND:20170711T190000Z
DTSTAMP:20260426T042814Z
ORGANIZER;CN=5 Wells Development Centre:MAILTO:victoria.brennan@5wells.org.
 uk
GEO:52.314941;-0.712512
X-APPLE-STRUCTURED-LOCATION;VALUE=URI;X-ADDRESS=Barnwell Rd\, Wellingboroug
 h NN8\, UK;X-APPLE-RADIUS=72;X-TITLE=5 Wells Development Centre @ Redwell 
 Primary :52.314941;-0.712512
END:VEVENT
END:VCALENDAR